BEGIN:VCALENDAR
VERSION:2.0
PRODID:-//Interkulturelle Bühne Frankfurt - ECPv6.15.20//NONSGML v1.0//EN
CALSCALE:GREGORIAN
METHOD:PUBLISH
X-WR-CALNAME:Interkulturelle Bühne Frankfurt
X-ORIGINAL-URL:https://www.interkulturelle-buehne-frankfurt.de
X-WR-CALDESC:Veranstaltungen für Interkulturelle Bühne Frankfurt
REFRESH-INTERVAL;VALUE=DURATION:PT1H
X-Robots-Tag:noindex
X-PUBLISHED-TTL:PT1H
BEGIN:VTIMEZONE
TZID:Europe/Berlin
BEGIN:DAYLIGHT
TZOFFSETFROM:+0100
TZOFFSETTO:+0200
TZNAME:CEST
DTSTART:20240331T010000
END:DAYLIGHT
BEGIN:STANDARD
TZOFFSETFROM:+0200
TZOFFSETTO:+0100
TZNAME:CET
DTSTART:20241027T010000
END:STANDARD
BEGIN:DAYLIGHT
TZOFFSETFROM:+0100
TZOFFSETTO:+0200
TZNAME:CEST
DTSTART:20250330T010000
END:DAYLIGHT
BEGIN:STANDARD
TZOFFSETFROM:+0200
TZOFFSETTO:+0100
TZNAME:CET
DTSTART:20251026T010000
END:STANDARD
BEGIN:DAYLIGHT
TZOFFSETFROM:+0100
TZOFFSETTO:+0200
TZNAME:CEST
DTSTART:20260329T010000
END:DAYLIGHT
BEGIN:STANDARD
TZOFFSETFROM:+0200
TZOFFSETTO:+0100
TZNAME:CET
DTSTART:20261025T010000
END:STANDARD
END:VTIMEZONE
BEGIN:VEVENT
DTSTART;TZID=Europe/Berlin:20250206T190000
DTEND;TZID=Europe/Berlin:20250206T233000
DTSTAMP:20260425T131235
CREATED:20251231T134638Z
LAST-MODIFIED:20251231T134638Z
UID:7075-1738868400-1738884600@www.interkulturelle-buehne-frankfurt.de
SUMMARY:30 Jahre IKB -Karaoke Nacht- AUSVERKAUFT!
DESCRIPTION:Liebe Mitglieder und Freunde des IKB\,\n\n\nEs ist kaum zu glauben\, aber wir haben runden Geburtstag erreicht – wir als IKB feiern mit euch 30-jährigen Bestehen!\nWir laden unser Mitglieder\, Freunde des IKB\, herzlich zu unserer Karaoke-Nacht\nein!\nLasst uns gemeinsam singen\, lachen und unvergessliche Momente erleben. Die\nTür steht offen für alle\, die mit uns feiern wollen.\n\n\n\n\n\n\nBitte teilt uns eure Teilnahme vorab per Email mit\, damit wir entsprechend planen können.\n\nWir freuen uns auf einen musikalischen Abend mit euch!\n\nFür Getränke und Suppe ist gesorgt. Bringt einfach gute Laune und eure Lieblingssongs im Herzen mit!\n\nMit singenden Grüßen\,\nEuer Vorstand
URL:https://www.interkulturelle-buehne-frankfurt.de/programm/30-jahre-ikb-karaoke-nacht-ausverkauft-2
END:VEVENT
END:VCALENDAR