BEGIN:VCALENDAR
VERSION:2.0
PRODID:-//Interkulturelle Bühne Frankfurt - ECPv6.15.20//NONSGML v1.0//EN
CALSCALE:GREGORIAN
METHOD:PUBLISH
X-ORIGINAL-URL:https://www.interkulturelle-buehne-frankfurt.de
X-WR-CALDESC:Veranstaltungen für Interkulturelle Bühne Frankfurt
REFRESH-INTERVAL;VALUE=DURATION:PT1H
X-Robots-Tag:noindex
X-PUBLISHED-TTL:PT1H
BEGIN:VTIMEZONE
TZID:Europe/Berlin
BEGIN:DAYLIGHT
TZOFFSETFROM:+0100
TZOFFSETTO:+0200
TZNAME:CEST
DTSTART:20240331T010000
END:DAYLIGHT
BEGIN:STANDARD
TZOFFSETFROM:+0200
TZOFFSETTO:+0100
TZNAME:CET
DTSTART:20241027T010000
END:STANDARD
BEGIN:DAYLIGHT
TZOFFSETFROM:+0100
TZOFFSETTO:+0200
TZNAME:CEST
DTSTART:20250330T010000
END:DAYLIGHT
BEGIN:STANDARD
TZOFFSETFROM:+0200
TZOFFSETTO:+0100
TZNAME:CET
DTSTART:20251026T010000
END:STANDARD
BEGIN:DAYLIGHT
TZOFFSETFROM:+0100
TZOFFSETTO:+0200
TZNAME:CEST
DTSTART:20260329T010000
END:DAYLIGHT
BEGIN:STANDARD
TZOFFSETFROM:+0200
TZOFFSETTO:+0100
TZNAME:CET
DTSTART:20261025T010000
END:STANDARD
END:VTIMEZONE
BEGIN:VEVENT
DTSTART;TZID=Europe/Berlin:20250110T200000
DTEND;TZID=Europe/Berlin:20250110T213000
DTSTAMP:20260425T143945
CREATED:20251231T134507Z
LAST-MODIFIED:20251231T134507Z
UID:7044-1736539200-1736544600@www.interkulturelle-buehne-frankfurt.de
SUMMARY:HAPPY BIRTHDAY FRANK
DESCRIPTION:Happy Birthday Frank\nProtagonist Franky will einfach ein paar Stunden allein sein. Eine Bank im\nGünthersburgpark bei schönem Wetter und Vogelgezwitscher scheinen der\nideale Rahmen\, um einen chilligen Nachmittag zu haben. Doch Franky hat\nseine Rechnung ohne seine Freunde Winnie und Mannie gemacht.\nDie beiden gesellen sich ungefragt zu ihm und können ihre Klappe nicht\nhalten. Doch wer denkt\, die drei Männer betreiben Smalltalk\, sieht sich\ngetäuscht. Statt über Fußball oder das Wetter zu reden\, geht es um\nEinsamkeit\, die Anonymität der Großstadt und Identität.\n„Bist du Halbdeutscher oder Halbtürke?“ „Meine Mutter ist\nDeutsche\, aber ihr Vater stammte aus Griechenland und dessen\nMutter war Halbdeutsche. Noch Fragen?!?“\nVon Ruhe kann keine Rede sein. Im Günthi tummeln sich an dem Tag noch\nweitere illustre Gestalten. So z.B. eine Flaschensammlerin und ein\nwirrköpfiger Philosoph\, die ungefragt ihre Sicht der Welt kundtun. Und wer\nverdammt nochmal versucht denn ständig\, Franky über das Handy zu\nerreichen? Ist heute irgendwas Besonderes?\nFreut euch auf einen witzigen\, kurzweiligen und zugleich tiefgründigen\nNachmittag im Park.\n\nText: Yusuf Kilic\nRegie: Nico Strauch\nMit:\nFrank Schatten\nJürgen Zugck\nEmre Camlilar\nMartin F. Herndlhofer\nBlazenka Tunjasevic
URL:https://www.interkulturelle-buehne-frankfurt.de/programm/happy-birthday-frank
END:VEVENT
END:VCALENDAR