BEGIN:VCALENDAR
VERSION:2.0
PRODID:-//Interkulturelle Bühne Frankfurt - ECPv6.15.20//NONSGML v1.0//EN
CALSCALE:GREGORIAN
METHOD:PUBLISH
X-WR-CALNAME:Interkulturelle Bühne Frankfurt
X-ORIGINAL-URL:https://www.interkulturelle-buehne-frankfurt.de
X-WR-CALDESC:Veranstaltungen für Interkulturelle Bühne Frankfurt
REFRESH-INTERVAL;VALUE=DURATION:PT1H
X-Robots-Tag:noindex
X-PUBLISHED-TTL:PT1H
BEGIN:VTIMEZONE
TZID:Europe/Berlin
BEGIN:DAYLIGHT
TZOFFSETFROM:+0100
TZOFFSETTO:+0200
TZNAME:CEST
DTSTART:20230326T010000
END:DAYLIGHT
BEGIN:STANDARD
TZOFFSETFROM:+0200
TZOFFSETTO:+0100
TZNAME:CET
DTSTART:20231029T010000
END:STANDARD
BEGIN:DAYLIGHT
TZOFFSETFROM:+0100
TZOFFSETTO:+0200
TZNAME:CEST
DTSTART:20240331T010000
END:DAYLIGHT
BEGIN:STANDARD
TZOFFSETFROM:+0200
TZOFFSETTO:+0100
TZNAME:CET
DTSTART:20241027T010000
END:STANDARD
BEGIN:DAYLIGHT
TZOFFSETFROM:+0100
TZOFFSETTO:+0200
TZNAME:CEST
DTSTART:20250330T010000
END:DAYLIGHT
BEGIN:STANDARD
TZOFFSETFROM:+0200
TZOFFSETTO:+0100
TZNAME:CET
DTSTART:20251026T010000
END:STANDARD
END:VTIMEZONE
BEGIN:VEVENT
DTSTART;TZID=Europe/Berlin:20241120T193000
DTEND;TZID=Europe/Berlin:20241120T203000
DTSTAMP:20260425T172633
CREATED:20251231T134253Z
LAST-MODIFIED:20251231T134253Z
UID:7002-1732131000-1732134600@www.interkulturelle-buehne-frankfurt.de
SUMMARY:MAINSTIMMIG -Days of Respect -Eintritt ist Frei
DESCRIPTION:Wir sind der Chor Mainstimmig\,\nvom Ersten allg. Popchor Frankfurt e.V.!\n\n\nWir sind eine lustige\, bunt gemischte Truppe\nunter der Leitung von Clemens Schäfer und singen\neine vielfältige Auswahl anspruchsvoll arrangierter\nPopsongs und Jazzstandards\, vornehmlich in englischer Sprache – meistens\na cappella\, manchmal mit Klavierbegleitung.
URL:https://www.interkulturelle-buehne-frankfurt.de/programm/mainstimmig-days-of-respect-eintritt-ist-frei-2
END:VEVENT
END:VCALENDAR