BEGIN:VCALENDAR
VERSION:2.0
PRODID:-//Interkulturelle Bühne Frankfurt - ECPv6.15.20//NONSGML v1.0//EN
CALSCALE:GREGORIAN
METHOD:PUBLISH
X-ORIGINAL-URL:https://www.interkulturelle-buehne-frankfurt.de
X-WR-CALDESC:Veranstaltungen für Interkulturelle Bühne Frankfurt
REFRESH-INTERVAL;VALUE=DURATION:PT1H
X-Robots-Tag:noindex
X-PUBLISHED-TTL:PT1H
BEGIN:VTIMEZONE
TZID:Europe/Berlin
BEGIN:DAYLIGHT
TZOFFSETFROM:+0100
TZOFFSETTO:+0200
TZNAME:CEST
DTSTART:20230326T010000
END:DAYLIGHT
BEGIN:STANDARD
TZOFFSETFROM:+0200
TZOFFSETTO:+0100
TZNAME:CET
DTSTART:20231029T010000
END:STANDARD
BEGIN:DAYLIGHT
TZOFFSETFROM:+0100
TZOFFSETTO:+0200
TZNAME:CEST
DTSTART:20240331T010000
END:DAYLIGHT
BEGIN:STANDARD
TZOFFSETFROM:+0200
TZOFFSETTO:+0100
TZNAME:CET
DTSTART:20241027T010000
END:STANDARD
BEGIN:DAYLIGHT
TZOFFSETFROM:+0100
TZOFFSETTO:+0200
TZNAME:CEST
DTSTART:20250330T010000
END:DAYLIGHT
BEGIN:STANDARD
TZOFFSETFROM:+0200
TZOFFSETTO:+0100
TZNAME:CET
DTSTART:20251026T010000
END:STANDARD
END:VTIMEZONE
BEGIN:VEVENT
DTSTART;TZID=Europe/Berlin:20241109T200000
DTEND;TZID=Europe/Berlin:20241109T213000
DTSTAMP:20260425T173229
CREATED:20251231T134338Z
LAST-MODIFIED:20251231T134338Z
UID:7015-1731182400-1731187800@www.interkulturelle-buehne-frankfurt.de
SUMMARY:Days of Respekt!! FRANKY GO HOME- Eintritt ist Frei
DESCRIPTION:FRANKY GO HOME\nFrüher war der Bornheimer König\, heute ist er das Opfer der Sachsenhäuser und Offenbacher. Auf sie sind wir angewiesen\, sie behandeln dich wie einen Fremden\, wie einen Ausländer im eigenen Land.\nWas hat es für Sinn\, dass so viele Sachsenhäuser und Offenbacher unser Bornheim besiedeln\, wir brauchen sie nicht. Ich habe nichts gegen Bockenheimer\, Offenbacher oder Sachsenhäuser\, solange sie uns nicht die schattigen Parkplätze wegnehmen\, sauber sind und die Sprache einigermaßen beherrschen.\n\nWir müssen aufpassen wie ein Schießhund\, sonst gehört Bornheim uns bald nicht mehr.\n\nMan sollte wie ein Offenbacher lachen können\, dieses Kopf-an-Kopf-Lachen. Dieses Reihenlachen\, hahahaha. Schau mal in die Gräben und aufgerissenen Straßen\, die Köpfe lachen immer. Man sollte wie ein Offenbacher lachen können. Niemand versteht uns\, aber alle wollen von uns Verständnis.\n\nTEXT: Yusuf Kilic\nREGIE: Nico Strauch
URL:https://www.interkulturelle-buehne-frankfurt.de/programm/days-of-respekt-franky-go-home-eintritt-ist-frei-2
END:VEVENT
BEGIN:VEVENT
DTSTART;TZID=Europe/Berlin:20241109T200000
DTEND;TZID=Europe/Berlin:20241109T213000
DTSTAMP:20260425T173229
CREATED:20251231T134423Z
LAST-MODIFIED:20251231T134423Z
UID:7030-1731182400-1731187800@www.interkulturelle-buehne-frankfurt.de
SUMMARY:Happy Birthday FRANKY
DESCRIPTION:Happy Birthday Frank\nProtagonist Franky will einfach ein paar Stunden allein sein. Eine Bank im\nGünthersburgpark bei schönem Wetter und Vogelgezwitscher scheinen der\nideale Rahmen\, um einen chilligen Nachmittag zu haben. Doch Franky hat\nseine Rechnung ohne seine Freunde Winnie und Mannie gemacht.\nDie beiden gesellen sich ungefragt zu ihm und können ihre Klappe nicht\nhalten. Doch wer denkt\, die drei Männer betreiben Smalltalk\, sieht sich\ngetäuscht. Statt über Fußball oder das Wetter zu reden\, geht es um\nEinsamkeit\, die Anonymität der Großstadt und Identität.\n„Bist du Halbdeutscher oder Halbtürke?“ „Meine Mutter ist\nDeutsche\, aber ihr Vater stammte aus Griechenland und dessen\nMutter war Halbdeutsche. Noch Fragen?!?“\nVon Ruhe kann keine Rede sein. Im Günthi tummeln sich an dem Tag noch\nweitere illustre Gestalten. So z.B. eine Flaschensammlerin und ein\nwirrköpfiger Philosoph\, die ungefragt ihre Sicht der Welt kundtun. Und wer\nverdammt nochmal versucht denn ständig\, Franky über das Handy zu\nerreichen? Ist heute irgendwas Besonderes?\nFreut euch auf einen witzigen\, kurzweiligen und zugleich tiefgründigen\nNachmittag im Park.\n\nText: Yusuf Kilic\nRegie: Nico Strauch\nMit:\nFrank Schatten\nJürgen Zugck\nEmre Camlilar\nMartin F. Herndlhofer\nBlazenka Tunjasevic
URL:https://www.interkulturelle-buehne-frankfurt.de/programm/happy-birthday-franky-3
END:VEVENT
END:VCALENDAR